BEGIN:VCALENDAR
VERSION:2.0
PRODID:-//eventon.com NONSGML v1.0//EN
CALSCALE:GREGORIAN
METHOD:PUBLISH
BEGIN:VEVENT
UID:69e6224d06647
DTSTAMP:20260420T125541Z
DTSTART:20230214T193000Z
DTEND:20230214T213000Z
LOCATION:
SUMMARY:Zoomtraining 'Betrayal trauma' (4 avonden) - start: 14 februari 2023
DESCRIPTION:Voor: Deze training is bedoeld voor vrouwen die een relatie heb
 ben of hadden met een man die porno-of seksverslaafd is of was\,  die daar 
 beschadigende gevolgen van ervaren en willen ontdekken hoe ze daarvan kunne
 n herstellen. Inhoud De ontdekking of onthulling van de porno- of seksversl
 aving van je partner is[..]\nhttps://kostbaarvaatwerk.nl/events/zoomtrainin
 g-betrayal-trauma-4-avonden/
URL:https://kostbaarvaatwerk.nl/events/zoomtraining-betrayal-trauma-4-avonden/
END:VEVENT
END:VCALENDAR