BEGIN:VCALENDAR
VERSION:2.0
PRODID:-//eventon.com NONSGML v1.0//EN
CALSCALE:GREGORIAN
METHOD:PUBLISH
BEGIN:VEVENT
UID:69e7826a4acae
DTSTAMP:20260421T135802Z
DTSTART:20250329T090000Z
DTEND:20250329T160000Z
LOCATION:Hoofddorp
SUMMARY:Jaarlijkse ontmoetingsdag voor vrouwen
DESCRIPTION:Voor: partners en ex-partners van seksverslaafden Inhoud Elk ja
 ar organiseren wij een landelijke ontmoetingsdag voor vrouwen die een relat
 ie hebben óf hebben gehad met een man die seksverslaafd is (geweest) of po
 rno kijkt. Deze dag staat in het teken van (h)erkenning\,  ontmoeting en be
 moediging. Tijdens deze dag kun je lotgenoten ontmoeten\, [..]\nhttps://ko
 stbaarvaatwerk.nl/events/ontmoetingsdag-2025/
URL:https://kostbaarvaatwerk.nl/events/ontmoetingsdag-2025/
END:VEVENT
END:VCALENDAR