BEGIN:VCALENDAR
VERSION:2.0
PRODID:-//eventon.com NONSGML v1.0//EN
CALSCALE:GREGORIAN
METHOD:PUBLISH
BEGIN:VEVENT
UID:69e782b43aac1
DTSTAMP:20260421T135916Z
DTSTART:20250519T084500Z
DTEND:20250519T104500Z
LOCATION:
SUMMARY:Zoomtraining 'Betrayal trauma' (4 ochtenden)
DESCRIPTION:Voor: Deze training is bedoeld voor vrouwen die een relatie heb
 ben of hadden met een man die porno-of seksverslaafd is of was\,  die daar 
 beschadigende gevolgen van ervaren en willen ontdekken hoe ze daarvan kunne
 n herstellen. De training wordt georganiseerd door Anita van Beem van Prakt
 ijk Elim. Inhoud De ontdekking[..]\nhttps://kostbaarvaatwerk.nl/events/zoom
 training-betrayal-trauma-ochtend/
URL:https://kostbaarvaatwerk.nl/events/zoomtraining-betrayal-trauma-ochtend/
END:VEVENT
END:VCALENDAR