BEGIN:VCALENDAR
VERSION:2.0
PRODID:-//eventon.com NONSGML v1.0//EN
CALSCALE:GREGORIAN
METHOD:PUBLISH
BEGIN:VEVENT
UID:69e4eb2f4f87f
DTSTAMP:20260419T144815Z
DTSTART:20250120T183000Z
DTEND:20250120T203000Z
LOCATION:#
SUMMARY:Informatie-avond voor vrouwen
DESCRIPTION:Voor: deze online bijeenkomst is voor vrouwen die een relatie h
 ebben (gehad) met iemand die porno- of seksverslaafd is INHOUD Heb jij een 
 relatie met iemand die porno kijkt en/of seksverslaafd is? Dan ben je van h
 arte welkom op deze online informatie-avond. Tijdens deze avond: ontdek je 
 welke impact het[..]\nhttps://kostbaarvaatwerk.nl/events/informatie-avond-v
 oor-vrouwen-jan25/
URL:https://kostbaarvaatwerk.nl/events/informatie-avond-voor-vrouwen-jan25/
END:VEVENT
END:VCALENDAR