BEGIN:VCALENDAR
VERSION:2.0
PRODID:-//eventon.com NONSGML v1.0//EN
CALSCALE:GREGORIAN
METHOD:PUBLISH
BEGIN:VEVENT
UID:69e78cdc621d2
DTSTAMP:20260421T144236Z
DTSTART:20260320T160000Z
DTEND:20260322T150000Z
LOCATION:Grönebach (Duitsland)
SUMMARY:Echtparenweekend 2026
DESCRIPTION:Van vrijdag 20 tot en met zondag 22 maart 2026 organiseren wij 
 weer een echtparenweekend. Voor wie? Voor stellen die verlangen naar (verde
 r) herstel van hun relatie na porno- of seksverslaving Het weekend is met n
 ame bedoeld voor stellen die één of meerdere keren hebben deelgenomen aan
  een echtparendag en/of[..]\nhttps://kostbaarvaatwerk.nl/events/echtparenwe
 ekend-2026/
URL:https://kostbaarvaatwerk.nl/events/echtparenweekend-2026/
END:VEVENT
END:VCALENDAR