BEGIN:VCALENDAR
VERSION:2.0
PRODID:-//eventon.com NONSGML v1.0//EN
CALSCALE:GREGORIAN
METHOD:PUBLISH
BEGIN:VEVENT
UID:69e4e1cb76e9e
DTSTAMP:20260419T140811Z
DTSTART:20251021T183000Z
DTEND:20251021T203000Z
LOCATION:
SUMMARY:Zoomtraining 'Betrayal trauma' (5 avonden) - oktober-december
DESCRIPTION:Voor: Deze training is bedoeld voor vrouwen die een relatie heb
 ben of hadden met een man die porno-of seksverslaafd is of was\,  die daar 
 beschadigende gevolgen van ervaren en willen ontdekken hoe ze daarvan kunne
 n herstellen. De training wordt georganiseerd door Anita van Beem van Prakt
 ijk Elim. Inhoud De ontdekking[..]\nhttps://kostbaarvaatwerk.nl/events/zoom
 training-betrayal-trauma-oktober/
URL:https://kostbaarvaatwerk.nl/events/zoomtraining-betrayal-trauma-oktober/
END:VEVENT
END:VCALENDAR