BEGIN:VCALENDAR
VERSION:2.0
PRODID:-//eventon.com NONSGML v1.0//EN
CALSCALE:GREGORIAN
METHOD:PUBLISH
BEGIN:VEVENT
UID:69e4cce96f516
DTSTAMP:20260419T123905Z
DTSTART:20251108T090000Z
DTEND:20251108T160000Z
LOCATION:Hoofddorp
SUMMARY:Ontmoetingsdag voor vrouwen
DESCRIPTION:Voor: partners en ex-partners van seksverslaafden Inhoud Eén o
 f twee keer per jaar organiseren wij een landelijke ontmoetingsdag voor vro
 uwen die een relatie hebben óf hebben gehad met een man die seksverslaafd 
 is (geweest) of porno kijkt. Deze dag staat in het teken van (h)erkenning\,
   ontmoeting en bemoediging. Tijdens deze[..]\nhttps://kostbaarvaatwerk.nl/
 events/ontmoetingsdag-november-2025/
URL:https://kostbaarvaatwerk.nl/events/ontmoetingsdag-november-2025/
END:VEVENT
END:VCALENDAR