BEGIN:VCALENDAR
VERSION:2.0
PRODID:-//eventon.com NONSGML v1.0//EN
CALSCALE:GREGORIAN
METHOD:PUBLISH
BEGIN:VEVENT
UID:69e765bdd0e51
DTSTAMP:20260421T115541Z
DTSTART:20260708T173000Z
DTEND:20260708T193000Z
LOCATION:#
SUMMARY:Informatie-avond voor vrouwen
DESCRIPTION:Voor: deze online bijeenkomst is voor vrouwen die een relatie h
 ebben (gehad) met iemand die porno- of seksverslaafd is INHOUD Heb jij een 
 relatie met iemand die porno kijkt en/of seksverslaafd is? Dan ben je van h
 arte welkom op deze online informatie-avond. Tijdens deze avond: ontdek je 
 welke impact het[..]\nhttps://kostbaarvaatwerk.nl/events/informatie-avond-j
 uli2026/
URL:https://kostbaarvaatwerk.nl/events/informatie-avond-juli2026/
END:VEVENT
END:VCALENDAR