BEGIN:VCALENDAR
VERSION:2.0
PRODID:-//eventon.com NONSGML v1.0//EN
CALSCALE:GREGORIAN
METHOD:PUBLISH
BEGIN:VEVENT
UID:69e7657d36f08
DTSTAMP:20260421T115437Z
DTSTART:20260530T080000Z
DTEND:20260530T150000Z
LOCATION:Houten
SUMMARY:Ontmoetingsdag voor vrouwen
DESCRIPTION:Voor: partners en ex-partners van seksverslaafden Inhoud Twee k
 eer per jaar organiseert Kostbaar Vaatwerk een Ontmoetingsdag voor vrouwen 
 die een relatie hebben (gehad) met een man die seks- of pornoverslaafd is (
 geweest). Deze dag staat in het teken van ontmoeting\,  (h)erkenning en bem
 oediging. Samen met vrouwen die in dezelfde situatie[..]\nhttps://kostbaarv
 aatwerk.nl/events/ontmoetingsdag-mei-2026/
URL:https://kostbaarvaatwerk.nl/events/ontmoetingsdag-mei-2026/
END:VEVENT
END:VCALENDAR