BEGIN:VCALENDAR
VERSION:2.0
PRODID:-//eventon.com NONSGML v1.0//EN
CALSCALE:GREGORIAN
METHOD:PUBLISH
BEGIN:VEVENT
UID:69e766e6d9d8b
DTSTAMP:20260421T120038Z
DTSTART:20260926T080000Z
DTEND:20260926T150000Z
LOCATION:Hoofddorp
SUMMARY:Echtparendag
DESCRIPTION:Voor: stellen die samen willen werken aan herstel van hun relat
 ie (na porno- of seksverslaving of ontrouw) Inhoud: Stellen die voor de eer
 ste keer een echtparendag bezoeken\,  volgen het basisprogramma. Basisprogr
 amma &#8216;Herstel van vertrouwen&#8217;. Samen verder na porno- of seksve
 rslaving\,  kan dat? Wij geloven dat mensen kunnen breken met hun[..]\nhttp
 s://kostbaarvaatwerk.nl/events/echtparendag-2026/
URL:https://kostbaarvaatwerk.nl/events/echtparendag-2026/
END:VEVENT
END:VCALENDAR